Workbook

Sheet 2月_研修申込書
C1: NISA研修申込書 (2027年2月開催分：2講座) | J1: 主催：一般社団法人 長崎県情報産業協会
F2: 申込年月日を右記覧へ記入 ⇒ | J2: 2027/00/00
C3: 会 社 名
C4: 会 社 住 所 | E4: 〒
C5: 窓 口 所 属
C6: 窓口 役職 氏名 | E6: 役職 | I6: 氏名
C7: 電 話 | I7: FAX
C8: メ ー ル
B10: 19s | C10: ＡＷＳによるサーバレスシステム 構築演習 | F10: 氏 名 | G10: ﾌﾘｶﾞﾅ（半角） | I10: 満年齢 （開始日） | J10: 性別 | K10: メールアドレス
C11: 開催日 | D11: 2/3・4・5 | E11: 1
C12: 開催曜日 | D12: （水）・（木）・(金) | E12: 2 | R12: ='2月_研修申込書'!I4233 -> 0
C13: 受講料（税別） | D13: 94560 | E13: 3
C14: ﾃｷｽﾄ代（税別） | D14: 6000 | E14: 4
C15: 受講料（税込） | D15: =D13*1.1 -> 104016 | E15: 5
C16: ﾃｷｽﾄ代（税込） | D16: =D14*1.1 -> 6600 | E16: 6
C17: 金額合計 | D17: 税別 | H17: 人数 | I17: 0 | J17: 金額 | K17: =(D13+D14)*I17 -> 0
B19: 20ｓ | C19: システム開発におけるレビュー技法 | F19: 氏 名 | G19: ﾌﾘｶﾞﾅ（半角） | I19: 満年齢 （開始日） | J19: 性別 | K19: メールアドレス
C20: 開催日 | D20: 2/25・26 | E20: 1
C21: 開催曜日 | D21: （木）・（金） | E21: 2
C22: 受講料（税別） | D22: 94560 | E22: 3
C23: ﾃｷｽﾄ代（税別） | D23: 6000 | E23: 4
C24: 受講料（税込） | D24: =D22*1.1 -> 104016 | E24: 5
C25: ﾃｷｽﾄ代（税込） | D25: =D23*1.1 -> 6600 | E25: 6
C26: 金額合計 | D26: 税別 | H26: 人数 | I26: 0 | J26: 金額 | K26: =(D22+D23)*I26 -> 0

Sheet 請求書
B1: 請 求 書
K2: 登録番号：T5-3100-0500-7228
C3: =O3 -> 2027年2月開催（2講座） | K3: =O5 -> 2027/00/00 | O3: 2027年2月開催（2講座）
C4: 会 社 名 | E4: ='2月_研修申込書'!E3 -> 0 | J4: 御中
C5: 会 社 住 所 | E5: 〒 | F5: ='2月_研修申込書'!F4 -> 0 | G5: ='2月_研修申込書'!G4 -> 0 | N5: 請求書発行日 | O5: 2027/00/00
C6: 窓 口 所 属 | E6: ='2月_研修申込書'!E5 -> 0
C7: 窓口 役職 氏名 | E7: 役職 | G7: ='2月_研修申込書'!G6 -> 0 | I7: 氏 名 | J7: ='2月_研修申込書'!J6:K6 -> 0
C8: 電 話 | E8: ='2月_研修申込書'!E7 -> 0 | I8: FAX | J8: ='2月_研修申込書'!J7 -> 0
E11: 金 | F11: =F13+F14 -> 0 | G11: 也 | H11: （消費税込み）
C13: 【内 訳】 | F13: =SUM(K29,K38) -> 0 | G13: （税別）
F14: =F13*0.1 -> 0 | G14: （消費税）
C15: 受講者他内訳は下記表の通りです。恐れ入りますが、振込手数料は御社でご負担ください。
C16: 振込期限 | E16: =O16 -> 2027/00/00 | N16: 振込期限入力 | O16: 2027/00/00
C17: 振 込 先 | E17: 十八親和銀行桜町支店 | G17: 普通預金 | H17: 口座番号 0211329
C18: 名 義 | E18: 一般社団法人長崎県情報産業協会 会長 濵本 浩邦
F19: 請求元 | G19: (ー社)長崎県情報産業協会
B22: ='2月_研修申込書'!B10 -> 19s | C22: ='2月_研修申込書'!C10 -> ＡＷＳによるサーバレスシステム 構築演習 | F22: 氏 名 | G22: ﾌﾘｶﾞﾅ（半角） | I22: 満年齢 （開始日） | J22: 性別 | K22: 金額
C23: ='2月_研修申込書'!C11 -> 開催日 | D23: ='2月_研修申込書'!D11 -> 2/3・4・5 | E23: ='2月_研修申込書'!E11 -> 1 | F23: ='2月_研修申込書'!F11 -> 0 | G23: ='2月_研修申込書'!G11 -> 0 | H23: ='2月_研修申込書'!H11 -> 0 | I23: ='2月_研修申込書'!I11 -> 0 | J23: ='2月_研修申込書'!J11 -> 0
C24: ='2月_研修申込書'!C12 -> 開催曜日 | D24: ='2月_研修申込書'!D12 -> （水）・（木）・(金) | E24: ='2月_研修申込書'!E12 -> 2 | F24: ='2月_研修申込書'!F12 -> 0 | G24: ='2月_研修申込書'!G12 -> 0 | H24: ='2月_研修申込書'!H12 -> 0 | I24: ='2月_研修申込書'!I12 -> 0 | J24: ='2月_研修申込書'!J12 -> 0
C25: ='2月_研修申込書'!C13 -> 受講料（税別） | D25: ='2月_研修申込書'!D13 -> 94560 | E25: ='2月_研修申込書'!E13 -> 3 | F25: ='2月_研修申込書'!F13 -> 0 | G25: ='2月_研修申込書'!G13 -> 0 | H25: ='2月_研修申込書'!H13 -> 0 | I25: ='2月_研修申込書'!I13 -> 0 | J25: ='2月_研修申込書'!J13 -> 0
C26: ='2月_研修申込書'!C14 -> ﾃｷｽﾄ代（税別） | D26: ='2月_研修申込書'!D14 -> 6000 | E26: ='2月_研修申込書'!E14 -> 4 | F26: ='2月_研修申込書'!F14 -> 0 | G26: ='2月_研修申込書'!G14 -> 0 | H26: ='2月_研修申込書'!H14 -> 0 | I26: ='2月_研修申込書'!I14 -> 0 | J26: ='2月_研修申込書'!J14 -> 0
C27: 受講料（税込） | D27: =D25*1.1 -> 104016 | E27: 5
C28: ﾃｷｽﾄ代（税込） | D28: =D26*1.1 -> 6600 | E28: 6
C29: ='2月_研修申込書'!C17 -> 金額合計 | D29: ='2月_研修申込書'!D17 -> 税別 | H29: ='2月_研修申込書'!H17 -> 人数 | I29: ='2月_研修申込書'!I17 -> 0 | J29: 金額 | K29: =(D25+D26)*I29 -> 0
B31: ='2月_研修申込書'!B19 -> 20ｓ | C31: システム開発におけるレビュー技法 | F31: 氏 名 | G31: ﾌﾘｶﾞﾅ（半角） | I31: 満年齢 （開始日） | J31: 性別 | K31: 金額
C32: ='2月_研修申込書'!C20 -> 開催日 | D32: ='2月_研修申込書'!D20 -> 2/25・26 | E32: ='2月_研修申込書'!E20 -> 1 | F32: ='2月_研修申込書'!F20 -> 0 | G32: ='2月_研修申込書'!G20 -> 0 | H32: ='2月_研修申込書'!H20 -> 0 | I32: ='2月_研修申込書'!I20 -> 0 | J32: ='2月_研修申込書'!J20 -> 0
C33: ='2月_研修申込書'!C21 -> 開催曜日 | D33: ='2月_研修申込書'!D21 -> （木）・（金） | E33: ='2月_研修申込書'!E21 -> 2 | F33: ='2月_研修申込書'!F21 -> 0 | G33: ='2月_研修申込書'!G21 -> 0 | H33: ='2月_研修申込書'!H21 -> 0 | I33: ='2月_研修申込書'!I21 -> 0 | J33: ='2月_研修申込書'!J21 -> 0
C34: ='2月_研修申込書'!C22 -> 受講料（税別） | D34: ='2月_研修申込書'!D22 -> 94560 | E34: ='2月_研修申込書'!E22 -> 3 | F34: ='2月_研修申込書'!F22 -> 0 | G34: ='2月_研修申込書'!G22 -> 0 | H34: ='2月_研修申込書'!H22 -> 0 | I34: ='2月_研修申込書'!I22 -> 0 | J34: ='2月_研修申込書'!J22 -> 0
C35: ='2月_研修申込書'!C23 -> ﾃｷｽﾄ代（税別） | D35: ='2月_研修申込書'!D23 -> 6000 | E35: ='2月_研修申込書'!E23 -> 4 | F35: ='2月_研修申込書'!F23 -> 0 | G35: ='2月_研修申込書'!G23 -> 0 | H35: ='2月_研修申込書'!H23 -> 0 | I35: ='2月_研修申込書'!I23 -> 0 | J35: ='2月_研修申込書'!J23 -> 0
C36: 受講料（税込） | D36: =D34*1.1 -> 104016 | E36: 5
C37: ﾃｷｽﾄ代（税込） | D37: =D35*1.1 -> 6600 | E37: 6
C38: ='2月_研修申込書'!C26 -> 金額合計 | D38: ='2月_研修申込書'!D26 -> 税別 | H38: ='2月_研修申込書'!H26 -> 人数 | I38: ='2月_研修申込書'!I26 -> 0 | J38: 金額 | K38: =(D34+D35)*I38 -> 0

Sheet DataBase
C2: ＮＯ | D2: 会社名 | E2: 窓口担当 | F2: 役職名 | G2: 氏名 | H2: 電話 | I2: メールアドレス | J2: 〒 | K2: 住所 | O2: 氏名 | P2: ﾌﾘｶﾞﾅ | Q2: 男女 | R2: 年齢 | S2: メール | T2: 入社5年以内
D3: ='2月_研修申込書'!E3 -> 0 | E3: ='2月_研修申込書'!E5 -> 0 | F3: ='2月_研修申込書'!G6 -> 0 | G3: ='2月_研修申込書'!J6 -> 0 | H3: ='2月_研修申込書'!E7 -> 0 | I3: ='2月_研修申込書'!E8 -> 0 | J3: ='2月_研修申込書'!F4 -> 0 | K3: ='2月_研修申込書'!G4 -> 0 | M3: ='2月_研修申込書'!B10 -> 19s | N3: 1 | O3: ='2月_研修申込書'!F11 -> 0 | P3: ='2月_研修申込書'!G11 -> 0 | Q3: ='2月_研修申込書'!J11 -> 0 | R3: ='2月_研修申込書'!I11 -> 0 | S3: ='2月_研修申込書'!K11 -> 0 | T3: ='2月_研修申込書'!H11 -> 0
N4: 2 | O4: ='2月_研修申込書'!F12 -> 0 | P4: ='2月_研修申込書'!G12 -> 0 | Q4: ='2月_研修申込書'!J12 -> 0 | R4: ='2月_研修申込書'!I12 -> 0 | S4: ='2月_研修申込書'!K12 -> 0 | T4: ='2月_研修申込書'!H12 -> 0
N5: 3 | O5: ='2月_研修申込書'!F13 -> 0 | P5: ='2月_研修申込書'!G13 -> 0 | Q5: ='2月_研修申込書'!J13 -> 0 | R5: ='2月_研修申込書'!I13 -> 0 | S5: ='2月_研修申込書'!K13 -> 0 | T5: ='2月_研修申込書'!H13 -> 0
N6: 4 | O6: ='2月_研修申込書'!F14 -> 0 | P6: ='2月_研修申込書'!G14 -> 0 | Q6: ='2月_研修申込書'!J14 -> 0 | R6: ='2月_研修申込書'!I14 -> 0 | S6: ='2月_研修申込書'!K14 -> 0 | T6: ='2月_研修申込書'!H14 -> 0
N7: 5 | O7: ='2月_研修申込書'!F15 -> 0 | P7: ='2月_研修申込書'!G15 -> 0 | Q7: ='2月_研修申込書'!J15 -> 0 | R7: ='2月_研修申込書'!I15 -> 0 | S7: ='2月_研修申込書'!K15 -> 0 | T7: ='2月_研修申込書'!H15 -> 0
N8: 6 | O8: ='2月_研修申込書'!F16 -> 0 | P8: ='2月_研修申込書'!G16 -> 0 | Q8: ='2月_研修申込書'!J16 -> 0 | R8: ='2月_研修申込書'!I16 -> 0 | S8: ='2月_研修申込書'!K16 -> 0 | T8: ='2月_研修申込書'!H16 -> 0
N9: 7
O11: 氏名 | P11: ﾌﾘｶﾞﾅ | Q11: 男女 | R11: 年齢 | S11: メール | T11: 入社5年以内
M12: ='2月_研修申込書'!B19 -> 20ｓ | N12: 1 | O12: ='2月_研修申込書'!F20 -> 0 | P12: ='2月_研修申込書'!G20 -> 0 | Q12: ='2月_研修申込書'!J20 -> 0 | R12: ='2月_研修申込書'!I20 -> 0 | S12: ='2月_研修申込書'!K20 -> 0 | T12: ='2月_研修申込書'!H20 -> 0
N13: 2 | O13: ='2月_研修申込書'!F21 -> 0 | P13: ='2月_研修申込書'!G21 -> 0 | Q13: ='2月_研修申込書'!J21 -> 0 | R13: ='2月_研修申込書'!I21 -> 0 | S13: ='2月_研修申込書'!K21 -> 0 | T13: ='2月_研修申込書'!H21 -> 0
N14: 3 | O14: ='2月_研修申込書'!F22 -> 0 | P14: ='2月_研修申込書'!G22 -> 0 | Q14: ='2月_研修申込書'!J22 -> 0 | R14: ='2月_研修申込書'!I22 -> 0 | S14: ='2月_研修申込書'!K22 -> 0 | T14: ='2月_研修申込書'!H22 -> 0
N15: 4 | O15: ='2月_研修申込書'!F23 -> 0 | P15: ='2月_研修申込書'!G23 -> 0 | Q15: ='2月_研修申込書'!J23 -> 0 | R15: ='2月_研修申込書'!I23 -> 0 | S15: ='2月_研修申込書'!K23 -> 0 | T15: ='2月_研修申込書'!H23 -> 0
N16: 5 | O16: ='2月_研修申込書'!F24 -> 0 | P16: ='2月_研修申込書'!G24 -> 0 | Q16: ='2月_研修申込書'!J24 -> 0 | R16: ='2月_研修申込書'!I24 -> 0 | S16: ='2月_研修申込書'!K24 -> 0 | T16: ='2月_研修申込書'!H24 -> 0
N17: 6 | O17: ='2月_研修申込書'!F25 -> 0 | P17: ='2月_研修申込書'!G25 -> 0 | Q17: ='2月_研修申込書'!J25 -> 0 | R17: ='2月_研修申込書'!I25 -> 0 | S17: ='2月_研修申込書'!K25 -> 0 | T17: ='2月_研修申込書'!H25 -> 0
N18: 7
