Workbook

Sheet 【AI-3】生成AIのビジネスでの活用講座_研修申込書
C1: 生成AIのビジネスでの活用講座(セミナー・ワークショップ）講座申込書 | J1: 主催：一般社団法人 長崎県情報産業協会
F2: 申込年月日を右記覧へ記入 ⇒ | J2: 2026/00/00
C3: 会 社 名
C4: 会 社 住 所 | E4: 〒
C5: 窓 口 所 属
C6: 窓口 役職 氏名 | E6: 役職 | I6: 氏名
C7: 電 話 | I7: FAX
C8: メ ー ル
B10: AI-3 | C10: 生成AIのビジネスでの活用講座 （セミナー・ワークショップ） | F10: 氏 名 | G10: ﾌﾘｶﾞﾅ（半角） | I10: 年齢 | J10: 性別 | K10: メールアドレス
C11: 開催日 | D11: 46283 | E11: 1
C12: 開催曜日 | D12: （金） | E12: 2
C13: 受講料･教材費込（税別） | D13: 50000 | E13: 3
C14: （消費税） | D14: 5000 | E14: 4
C15: 受講料･教材費込（税込） | D15: 55000 | E15: 5 | R15: ='【AI-3】生成AIのビジネスでの活用講座_研修申込書'!I3251 -> 0
E16: 6
C17: 金額合計 | D17: 税別 | H17: 人数 | J17: 金額 | K17: =(D13+D14)*I17 -> 0

Sheet 請求書
B1: 請 求 書
K2: 登録番号：T5-3100-0500-7228
C3: =O3 -> 【AI-3】生成AIのビジネスでの活用講座（セミナー・ワークショップ） | K3: =O5 -> 2026/00/00 | O3: 【AI-3】生成AIのビジネスでの活用講座（セミナー・ワークショップ）
C4: 会 社 名 | E4: ='【AI-3】生成AIのビジネスでの活用講座_研修申込書'!E3 -> 0 | J4: 御中
C5: 会 社 住 所 | E5: 〒 | F5: ='【AI-3】生成AIのビジネスでの活用講座_研修申込書'!F4 -> 0 | G5: ='【AI-3】生成AIのビジネスでの活用講座_研修申込書'!G4 -> 0 | N5: 請求書発行日 | O5: 2026/00/00
C6: 窓 口 所 属 | E6: ='【AI-3】生成AIのビジネスでの活用講座_研修申込書'!E5 -> 0
C7: 窓口 役職 氏名 | E7: 役職 | G7: ='【AI-3】生成AIのビジネスでの活用講座_研修申込書'!G6 -> 0 | I7: 氏 名 | J7: ='【AI-3】生成AIのビジネスでの活用講座_研修申込書'!J6:K6 -> 0
C8: 電 話 | E8: ='【AI-3】生成AIのビジネスでの活用講座_研修申込書'!E7 -> 0 | I8: FAX | J8: ='【AI-3】生成AIのビジネスでの活用講座_研修申込書'!J7 -> 0
E11: 金 | F11: =F13+F14 -> 0 | G11: 也 | H11: （消費税込み）
C13: 【内 訳】 | F13: =SUM(K28) -> 0 | G13: （税別）
F14: =F13*0.1 -> 0 | G14: （消費税10%）
C15: 受講者他内訳は下記表の通りです。恐れ入りますが、振込手数料は御社でご負担ください。
C16: 振込期限 | E16: =O16 -> 2026/00/00 | N16: 振込期限入力 | O16: 2026/00/00
C17: 振 込 先 | E17: 十八親和銀行桜町支店 | G17: 普通預金 | H17: 口座番号 0211329
C18: 名 義 | E18: 一般社団法人長崎県情報産業協会 会長 濵本 浩邦
F19: 請求元 | G19: (ー社)長崎県情報産業協会
B21: ='【AI-3】生成AIのビジネスでの活用講座_研修申込書'!B10 -> AI-3 | C21: 生成AIのビジネスでの活用講座 （セミナー・ワークショップ） | F21: 氏 名 | G21: ﾌﾘｶﾞﾅ（半角） | I21: 年齢 | J21: 性別 | K21: 金額
C22: ='【AI-3】生成AIのビジネスでの活用講座_研修申込書'!C11 -> 開催日 | D22: ='【AI-3】生成AIのビジネスでの活用講座_研修申込書'!D11 -> 46283 | E22: ='【AI-3】生成AIのビジネスでの活用講座_研修申込書'!E11 -> 1 | F22: ='【AI-3】生成AIのビジネスでの活用講座_研修申込書'!F11 -> 0 | G22: ='【AI-3】生成AIのビジネスでの活用講座_研修申込書'!G11 -> 0 | H22: ='【AI-3】生成AIのビジネスでの活用講座_研修申込書'!H11 -> 0 | I22: ='【AI-3】生成AIのビジネスでの活用講座_研修申込書'!I11 -> 0 | J22: ='【AI-3】生成AIのビジネスでの活用講座_研修申込書'!J11 -> 0
C23: ='【AI-3】生成AIのビジネスでの活用講座_研修申込書'!C12 -> 開催曜日 | D23: ='【AI-3】生成AIのビジネスでの活用講座_研修申込書'!D12 -> （金） | E23: ='【AI-3】生成AIのビジネスでの活用講座_研修申込書'!E12 -> 2 | F23: ='【AI-3】生成AIのビジネスでの活用講座_研修申込書'!F12 -> 0 | G23: ='【AI-3】生成AIのビジネスでの活用講座_研修申込書'!G12 -> 0 | H23: ='【AI-3】生成AIのビジネスでの活用講座_研修申込書'!H12 -> 0 | I23: ='【AI-3】生成AIのビジネスでの活用講座_研修申込書'!I12 -> 0 | J23: ='【AI-3】生成AIのビジネスでの活用講座_研修申込書'!J12 -> 0
C24: 受講料･教材費込（税別） | D24: ='【AI-3】生成AIのビジネスでの活用講座_研修申込書'!D13 -> 50000 | E24: ='【AI-3】生成AIのビジネスでの活用講座_研修申込書'!E13 -> 3 | F24: ='【AI-3】生成AIのビジネスでの活用講座_研修申込書'!F13 -> 0 | G24: ='【AI-3】生成AIのビジネスでの活用講座_研修申込書'!G13 -> 0 | H24: ='【AI-3】生成AIのビジネスでの活用講座_研修申込書'!H13 -> 0 | I24: ='【AI-3】生成AIのビジネスでの活用講座_研修申込書'!I13 -> 0 | J24: ='【AI-3】生成AIのビジネスでの活用講座_研修申込書'!J13 -> 0
C25: （消費税） | D25: ='【AI-3】生成AIのビジネスでの活用講座_研修申込書'!D14 -> 5000 | E25: ='【AI-3】生成AIのビジネスでの活用講座_研修申込書'!E14 -> 4 | F25: ='【AI-3】生成AIのビジネスでの活用講座_研修申込書'!F14 -> 0 | G25: ='【AI-3】生成AIのビジネスでの活用講座_研修申込書'!G14 -> 0 | H25: ='【AI-3】生成AIのビジネスでの活用講座_研修申込書'!H14 -> 0 | I25: ='【AI-3】生成AIのビジネスでの活用講座_研修申込書'!I14 -> 0 | J25: ='【AI-3】生成AIのビジネスでの活用講座_研修申込書'!J14 -> 0
C26: 受講料･教材費込（税込） | D26: ='【AI-3】生成AIのビジネスでの活用講座_研修申込書'!D15 -> 55000 | E26: ='【AI-3】生成AIのビジネスでの活用講座_研修申込書'!E15 -> 5 | F26: ='【AI-3】生成AIのビジネスでの活用講座_研修申込書'!F15 -> 0 | G26: ='【AI-3】生成AIのビジネスでの活用講座_研修申込書'!G15 -> 0 | H26: ='【AI-3】生成AIのビジネスでの活用講座_研修申込書'!H15 -> 0 | I26: ='【AI-3】生成AIのビジネスでの活用講座_研修申込書'!I15 -> 0 | J26: ='【AI-3】生成AIのビジネスでの活用講座_研修申込書'!J15 -> 0
C27: ='【AI-3】生成AIのビジネスでの活用講座_研修申込書'!C16 -> 0 | D27: ='【AI-3】生成AIのビジネスでの活用講座_研修申込書'!D16 -> 0 | E27: ='【AI-3】生成AIのビジネスでの活用講座_研修申込書'!E16 -> 6 | F27: ='【AI-3】生成AIのビジネスでの活用講座_研修申込書'!F16 -> 0 | G27: ='【AI-3】生成AIのビジネスでの活用講座_研修申込書'!G16 -> 0 | H27: ='【AI-3】生成AIのビジネスでの活用講座_研修申込書'!H16 -> 0 | I27: ='【AI-3】生成AIのビジネスでの活用講座_研修申込書'!I16 -> 0 | J27: ='【AI-3】生成AIのビジネスでの活用講座_研修申込書'!J16 -> 0
C28: ='【AI-3】生成AIのビジネスでの活用講座_研修申込書'!C17 -> 金額合計 | D28: ='【AI-3】生成AIのビジネスでの活用講座_研修申込書'!D17 -> 税別 | H28: 人数 | I28: ='【AI-3】生成AIのビジネスでの活用講座_研修申込書'!I17 -> 0 | J28: 金額 | K28: =(D24+D25)*I28 -> 0

Sheet DataBase
C2: ＮＯ | D2: 会社名 | E2: 窓口担当 | F2: 役職名 | G2: 氏名 | H2: 電話 | I2: メールアドレス | J2: 〒 | K2: 住所 | O2: 氏名 | P2: ﾌﾘｶﾞﾅ | Q2: 男女 | R2: 年齢 | S2: メール | T2: 入社5年以内
D3: ='【AI-3】生成AIのビジネスでの活用講座_研修申込書'!E3 -> 0 | E3: ='【AI-3】生成AIのビジネスでの活用講座_研修申込書'!E5 -> 0 | F3: ='【AI-3】生成AIのビジネスでの活用講座_研修申込書'!G6 -> 0 | G3: ='【AI-3】生成AIのビジネスでの活用講座_研修申込書'!J6 -> 0 | H3: ='【AI-3】生成AIのビジネスでの活用講座_研修申込書'!E7 -> 0 | I3: ='【AI-3】生成AIのビジネスでの活用講座_研修申込書'!E8 -> 0 | J3: ='【AI-3】生成AIのビジネスでの活用講座_研修申込書'!F4 -> 0 | K3: ='【AI-3】生成AIのビジネスでの活用講座_研修申込書'!G4 -> 0 | M3: ='【AI-3】生成AIのビジネスでの活用講座_研修申込書'!B10 -> AI-3 | N3: 1 | O3: ='【AI-3】生成AIのビジネスでの活用講座_研修申込書'!F11 -> 0 | P3: ='【AI-3】生成AIのビジネスでの活用講座_研修申込書'!G11 -> 0 | Q3: ='【AI-3】生成AIのビジネスでの活用講座_研修申込書'!J11 -> 0 | R3: ='【AI-3】生成AIのビジネスでの活用講座_研修申込書'!I11 -> 0 | S3: ='【AI-3】生成AIのビジネスでの活用講座_研修申込書'!K11 -> 0 | T3: ='【AI-3】生成AIのビジネスでの活用講座_研修申込書'!H11 -> 0
N4: 2 | O4: ='【AI-3】生成AIのビジネスでの活用講座_研修申込書'!F12 -> 0 | P4: ='【AI-3】生成AIのビジネスでの活用講座_研修申込書'!G12 -> 0 | Q4: ='【AI-3】生成AIのビジネスでの活用講座_研修申込書'!J12 -> 0 | R4: ='【AI-3】生成AIのビジネスでの活用講座_研修申込書'!I12 -> 0 | S4: ='【AI-3】生成AIのビジネスでの活用講座_研修申込書'!K12 -> 0 | T4: ='【AI-3】生成AIのビジネスでの活用講座_研修申込書'!H12 -> 0
N5: 3 | O5: ='【AI-3】生成AIのビジネスでの活用講座_研修申込書'!F13 -> 0 | P5: ='【AI-3】生成AIのビジネスでの活用講座_研修申込書'!G13 -> 0 | Q5: ='【AI-3】生成AIのビジネスでの活用講座_研修申込書'!J13 -> 0 | R5: ='【AI-3】生成AIのビジネスでの活用講座_研修申込書'!I13 -> 0 | S5: ='【AI-3】生成AIのビジネスでの活用講座_研修申込書'!K13 -> 0 | T5: ='【AI-3】生成AIのビジネスでの活用講座_研修申込書'!H13 -> 0
N6: 4 | O6: ='【AI-3】生成AIのビジネスでの活用講座_研修申込書'!F14 -> 0 | P6: ='【AI-3】生成AIのビジネスでの活用講座_研修申込書'!G14 -> 0 | Q6: ='【AI-3】生成AIのビジネスでの活用講座_研修申込書'!J14 -> 0 | R6: ='【AI-3】生成AIのビジネスでの活用講座_研修申込書'!I14 -> 0 | S6: ='【AI-3】生成AIのビジネスでの活用講座_研修申込書'!K14 -> 0 | T6: ='【AI-3】生成AIのビジネスでの活用講座_研修申込書'!H14 -> 0
N7: 5 | O7: ='【AI-3】生成AIのビジネスでの活用講座_研修申込書'!F15 -> 0 | P7: ='【AI-3】生成AIのビジネスでの活用講座_研修申込書'!G15 -> 0 | Q7: ='【AI-3】生成AIのビジネスでの活用講座_研修申込書'!J15 -> 0 | R7: ='【AI-3】生成AIのビジネスでの活用講座_研修申込書'!I15 -> 0 | S7: ='【AI-3】生成AIのビジネスでの活用講座_研修申込書'!K15 -> 0 | T7: ='【AI-3】生成AIのビジネスでの活用講座_研修申込書'!H15 -> 0
N8: 6 | O8: ='【AI-3】生成AIのビジネスでの活用講座_研修申込書'!F16 -> 0 | P8: ='【AI-3】生成AIのビジネスでの活用講座_研修申込書'!G16 -> 0 | Q8: ='【AI-3】生成AIのビジネスでの活用講座_研修申込書'!J16 -> 0 | R8: ='【AI-3】生成AIのビジネスでの活用講座_研修申込書'!I16 -> 0 | S8: ='【AI-3】生成AIのビジネスでの活用講座_研修申込書'!K16 -> 0 | T8: ='【AI-3】生成AIのビジネスでの活用講座_研修申込書'!H16 -> 0
N9: 7
