Workbook

Sheet 07月_研修申込書
C1: NISA研修申込書 (2026年7月開催分：3講座) | J1: 主催：一般社団法人 長崎県情報産業協会
F2: 申込年月日を右記覧へ記入 ⇒ | J2: 2026/00/00
C3: 会 社 名
C4: 会 社 住 所 | E4: 〒
C5: 窓 口 所 属
C6: 窓口 役職 氏名 | E6: 役職 | I6: 氏名
C7: 電 話 | I7: FAX
C8: メ ー ル
B10: 01ｊ | C10: Windows Serverの基礎 | F10: 氏 名 | G10: ﾌﾘｶﾞﾅ（半角） | I10: 満年齢 （開始日） | J10: 性別 | K10: メールアドレス
C11: 開催日 | D11: 07/2・3 | E11: 1
C12: 開催曜日 | D12: （木）・(金) | E12: 2
C13: 受講料（税別） | D13: 94560 | E13: 3
C14: ﾃｷｽﾄ代（税別） | D14: 6000 | E14: 4
C15: 受講料（税込） | D15: =D13*1.1 -> 104016 | E15: 5 | R15: ='07月_研修申込書'!I3254 -> 0
C16: ﾃｷｽﾄ代（税込） | D16: =D14*1.1 -> 6600 | E16: 6
C17: 金額合計 | D17: 税別 | H17: 人数 | J17: 金額 | K17: =(D13+D14)*I17 -> 0
B19: 02j | C19: UNIX/Linux入門 | F19: 氏 名 | G19: ﾌﾘｶﾞﾅ（半角） | I19: 満年齢 （開始日） | J19: 性別 | K19: メールアドレス
C20: 開催日 | D20: 07/8・9・10 | E20: 1
C21: 開催曜日 | D21: （水）・（木）・(金) | E21: 2
C22: 受講料（税別） | D22: 94560 | E22: 3
C23: ﾃｷｽﾄ代（税別） | D23: 6000 | E23: 4
C24: 受講料（税込） | D24: =D22*1.1 -> 104016 | E24: 5
C25: ﾃｷｽﾄ代（税込） | D25: =D23*1.1 -> 6600 | E25: 6
C26: 金額合計 | D26: 税別 | H26: 人数 | J26: 金額 | K26: =(D22+D23)*I26 -> 0
B28: 03a | C28: 仕事の段取り力養成講座 | F28: 氏 名 | G28: ﾌﾘｶﾞﾅ（半角） | I28: 満年齢 （開始日） | J28: 性別 | K28: メールアドレス
C29: 開催日 | D29: 07/30・31 | E29: 1
C30: 開催曜日 | D30: （木）・(金) | E30: 2
C31: 受講料（税別） | D31: 94560 | E31: 3
C32: ﾃｷｽﾄ代（税別） | D32: 6000 | E32: 4
C33: 受講料（税込） | D33: =D31*1.1 -> 104016 | E33: 5
C34: ﾃｷｽﾄ代（税込） | D34: =D32*1.1 -> 6600 | E34: 6
C35: 金額合計 | D35: 税別 | H35: 人数 | J35: 金額 | K35: =(D31+D32)*I35 -> 0

Sheet 請求書
B1: 請 求 書
K2: 登録番号：T5-3100-0500-7228
C3: =O3 -> 2026年07月開催（3講座） | K3: =O5 -> 2026/00/00 | O3: 2026年07月開催（3講座）
C4: 会 社 名 | E4: ='07月_研修申込書'!E3 -> 0 | J4: 御中
C5: 会 社 住 所 | E5: 〒 | F5: ='07月_研修申込書'!F4 -> 0 | G5: ='07月_研修申込書'!G4 -> 0 | N5: 請求書発行日 | O5: 2026/00/00
C6: 窓 口 所 属 | E6: ='07月_研修申込書'!E5 -> 0
C7: 窓口 役職 氏名 | E7: 役職 | G7: ='07月_研修申込書'!G6 -> 0 | I7: 氏 名 | J7: ='07月_研修申込書'!J6:K6 -> 0
C8: 電 話 | E8: ='07月_研修申込書'!E7 -> 0 | I8: FAX | J8: ='07月_研修申込書'!J7 -> 0
E11: 金 | F11: =F13+F14 -> 0 | I11: (消費税込)
C13: 【内 訳】 | F13: =SUM(K28) -> 0 | G13: （税別）
F14: =F13*0.1 -> 0 | G14: （消費税10%）
C15: 受講者他内訳は下記表の通りです。恐れ入りますが、振込手数料は御社でご負担ください。
C16: 振込期限 | E16: =O16 -> 2026/00/00 | N16: 振込期限入力 | O16: 2026/00/00
C17: 振 込 先 | E17: 十八親和銀行桜町支店 | G17: 普通預金 | H17: 口座番号 0211329
C18: 名 義 | E18: 一般社団法人長崎県情報産業協会 会長 濵本 浩邦
F19: 請求元 | G19: (ー社)長崎県情報産業協会
B21: 01ｊ | C21: Windows Serverの基礎 | F21: 氏 名 | G21: ﾌﾘｶﾞﾅ（半角） | I21: 満年齢 （開始日） | J21: 性別 | K21: 金額
C22: 開催日 | D22: 07/2・3 | E22: 1 | F22: ='07月_研修申込書'!F11 -> 0 | G22: ='07月_研修申込書'!G11 -> 0 | H22: ='07月_研修申込書'!H11 -> 0 | I22: ='07月_研修申込書'!I11 -> 0 | J22: ='07月_研修申込書'!J11 -> 0
C23: 開催曜日 | D23: （木）・(金) | E23: 2 | F23: ='07月_研修申込書'!F12 -> 0 | G23: ='07月_研修申込書'!G12 -> 0 | H23: ='07月_研修申込書'!H12 -> 0 | I23: ='07月_研修申込書'!I12 -> 0 | J23: ='07月_研修申込書'!J12 -> 0
C24: 受講料（税別） | D24: 94560 | E24: 3 | F24: ='07月_研修申込書'!F13 -> 0 | G24: ='07月_研修申込書'!G13 -> 0 | H24: ='07月_研修申込書'!H13 -> 0 | I24: ='07月_研修申込書'!I13 -> 0 | J24: ='07月_研修申込書'!J13 -> 0
C25: ﾃｷｽﾄ代（税別） | D25: 6000 | E25: 4 | F25: ='07月_研修申込書'!F14 -> 0 | G25: ='07月_研修申込書'!G14 -> 0 | H25: ='07月_研修申込書'!H14 -> 0 | I25: ='07月_研修申込書'!I14 -> 0 | J25: ='07月_研修申込書'!J14 -> 0
C26: 受講料（税込） | D26: =D24*1.1 -> 104016 | E26: 5 | F26: ='07月_研修申込書'!F15 -> 0 | G26: ='07月_研修申込書'!G15 -> 0 | H26: ='07月_研修申込書'!H15 -> 0 | I26: ='07月_研修申込書'!I15 -> 0 | J26: ='07月_研修申込書'!J15 -> 0
C27: ﾃｷｽﾄ代（税込） | D27: =D25*1.1 -> 6600 | E27: 6 | F27: ='07月_研修申込書'!F16 -> 0 | G27: ='07月_研修申込書'!G16 -> 0 | H27: ='07月_研修申込書'!H16 -> 0 | I27: ='07月_研修申込書'!I16 -> 0 | J27: ='07月_研修申込書'!J16 -> 0
C28: 金額合計 | D28: 税別 | G28: 人数 | H28: 人数 | I28: ='07月_研修申込書'!I17 -> 0 | J28: 金額 | K28: =(D24+D25)*I28 -> 0
B30: 02j | C30: UNIX/Linux入門 | F30: 氏 名 | G30: ﾌﾘｶﾞﾅ（半角） | I30: 満年齢 （開始日） | J30: 性別 | K30: 金額
C31: 開催日 | D31: 07/8・9・10 | E31: 1 | F31: ='07月_研修申込書'!F20 -> 0 | G31: ='07月_研修申込書'!G20 -> 0 | H31: ='07月_研修申込書'!H20 -> 0 | I31: ='07月_研修申込書'!I20 -> 0 | J31: ='07月_研修申込書'!J20 -> 0
C32: 開催曜日 | D32: （水）・（木）・(金) | E32: 2 | F32: ='07月_研修申込書'!F21 -> 0 | G32: ='07月_研修申込書'!G21 -> 0 | H32: ='07月_研修申込書'!H21 -> 0 | I32: ='07月_研修申込書'!I21 -> 0 | J32: ='07月_研修申込書'!J21 -> 0
C33: 受講料（税別） | D33: 94560 | E33: 3 | F33: ='07月_研修申込書'!F22 -> 0 | G33: ='07月_研修申込書'!G22 -> 0 | H33: ='07月_研修申込書'!H22 -> 0 | I33: ='07月_研修申込書'!I22 -> 0 | J33: ='07月_研修申込書'!J22 -> 0
C34: ﾃｷｽﾄ代（税別） | D34: 6000 | E34: 4 | F34: ='07月_研修申込書'!F23 -> 0 | G34: ='07月_研修申込書'!G23 -> 0 | H34: ='07月_研修申込書'!H23 -> 0 | I34: ='07月_研修申込書'!I23 -> 0 | J34: ='07月_研修申込書'!J23 -> 0
C35: 受講料（税込） | D35: =D33*1.1 -> 104016 | E35: 5 | F35: ='07月_研修申込書'!F24 -> 0 | G35: ='07月_研修申込書'!G24 -> 0 | H35: ='07月_研修申込書'!H24 -> 0 | I35: ='07月_研修申込書'!I24 -> 0 | J35: ='07月_研修申込書'!J24 -> 0
C36: ﾃｷｽﾄ代（税込） | D36: =D34*1.1 -> 6600 | E36: 6 | F36: ='07月_研修申込書'!F25 -> 0 | G36: ='07月_研修申込書'!G25 -> 0 | H36: ='07月_研修申込書'!H25 -> 0 | I36: ='07月_研修申込書'!I25 -> 0 | J36: ='07月_研修申込書'!J25 -> 0
C37: 金額合計 | D37: 税別 | G37: 人数 | H37: 人数 | I37: ='07月_研修申込書'!I26 -> 0 | J37: 金額 | K37: =(D33+D34)*I37 -> 0
B39: 03a | C39: 仕事の段取り力養成講座 | F39: 氏 名 | G39: ﾌﾘｶﾞﾅ（半角） | I39: 満年齢 （開始日） | J39: 性別 | K39: 金額
C40: 開催日 | D40: 07/30・31 | E40: 1 | F40: ='07月_研修申込書'!F29 -> 0 | G40: ='07月_研修申込書'!G29 -> 0 | H40: ='07月_研修申込書'!H29 -> 0 | I40: ='07月_研修申込書'!I29 -> 0 | J40: ='07月_研修申込書'!J29 -> 0
C41: 開催曜日 | D41: （木）・(金) | E41: 2 | F41: ='07月_研修申込書'!F30 -> 0 | G41: ='07月_研修申込書'!G30 -> 0 | H41: ='07月_研修申込書'!H30 -> 0 | I41: ='07月_研修申込書'!I30 -> 0 | J41: ='07月_研修申込書'!J30 -> 0
C42: 受講料（税別） | D42: 94560 | E42: 3 | F42: ='07月_研修申込書'!F31 -> 0 | G42: ='07月_研修申込書'!G31 -> 0 | H42: ='07月_研修申込書'!H31 -> 0 | I42: ='07月_研修申込書'!I31 -> 0 | J42: ='07月_研修申込書'!J31 -> 0
C43: ﾃｷｽﾄ代（税別） | D43: 6000 | E43: 4 | F43: ='07月_研修申込書'!F32 -> 0 | G43: ='07月_研修申込書'!G32 -> 0 | H43: ='07月_研修申込書'!H32 -> 0 | I43: ='07月_研修申込書'!I32 -> 0 | J43: ='07月_研修申込書'!J32 -> 0
C44: 受講料（税込） | D44: =D42*1.1 -> 104016 | E44: 5 | F44: ='07月_研修申込書'!F33 -> 0 | G44: ='07月_研修申込書'!G33 -> 0 | H44: ='07月_研修申込書'!H33 -> 0 | I44: ='07月_研修申込書'!I33 -> 0 | J44: ='07月_研修申込書'!J33 -> 0
C45: ﾃｷｽﾄ代（税込） | D45: =D43*1.1 -> 6600 | E45: 6 | F45: ='07月_研修申込書'!F34 -> 0 | G45: ='07月_研修申込書'!G34 -> 0 | H45: ='07月_研修申込書'!H34 -> 0 | I45: ='07月_研修申込書'!I34 -> 0 | J45: ='07月_研修申込書'!J34 -> 0
C46: 金額合計 | D46: 税別 | G46: 人数 | H46: 人数 | I46: ='07月_研修申込書'!I35 -> 0 | J46: 金額 | K46: =(D42+D43)*I46 -> 0

Sheet DataBase
C2: ＮＯ | D2: 会社名 | E2: 窓口担当 | F2: 役職名 | G2: 氏名 | H2: 電話 | I2: メールアドレス | J2: 〒 | K2: 住所 | O2: 氏名 | P2: ﾌﾘｶﾞﾅ | Q2: 男女 | R2: 年齢 | S2: メール | T2: 入社5年以内
D3: ='07月_研修申込書'!E3 -> 0 | E3: ='07月_研修申込書'!E5 -> 0 | F3: ='07月_研修申込書'!G6 -> 0 | G3: ='07月_研修申込書'!J6 -> 0 | H3: ='07月_研修申込書'!E7 -> 0 | I3: ='07月_研修申込書'!E8 -> 0 | J3: ='07月_研修申込書'!F4 -> 0 | K3: ='07月_研修申込書'!G4 -> 0 | M3: ='07月_研修申込書'!B10 -> 01ｊ | N3: 1 | O3: ='07月_研修申込書'!F11 -> 0 | P3: ='07月_研修申込書'!G11 -> 0 | Q3: ='07月_研修申込書'!J11 -> 0 | R3: ='07月_研修申込書'!I11 -> 0 | S3: ='07月_研修申込書'!K11 -> 0 | T3: ='07月_研修申込書'!H11 -> 0
N4: 2 | O4: ='07月_研修申込書'!F12 -> 0 | P4: ='07月_研修申込書'!G12 -> 0 | Q4: ='07月_研修申込書'!J12 -> 0 | R4: ='07月_研修申込書'!I12 -> 0 | S4: ='07月_研修申込書'!K12 -> 0 | T4: ='07月_研修申込書'!H12 -> 0
N5: 3 | O5: ='07月_研修申込書'!F13 -> 0 | P5: ='07月_研修申込書'!G13 -> 0 | Q5: ='07月_研修申込書'!J13 -> 0 | R5: ='07月_研修申込書'!I13 -> 0 | S5: ='07月_研修申込書'!K13 -> 0 | T5: ='07月_研修申込書'!H13 -> 0
N6: 4 | O6: ='07月_研修申込書'!F14 -> 0 | P6: ='07月_研修申込書'!G14 -> 0 | Q6: ='07月_研修申込書'!J14 -> 0 | R6: ='07月_研修申込書'!I14 -> 0 | S6: ='07月_研修申込書'!K14 -> 0 | T6: ='07月_研修申込書'!H14 -> 0
N7: 5 | O7: ='07月_研修申込書'!F15 -> 0 | P7: ='07月_研修申込書'!G15 -> 0 | Q7: ='07月_研修申込書'!J15 -> 0 | R7: ='07月_研修申込書'!I15 -> 0 | S7: ='07月_研修申込書'!K15 -> 0 | T7: ='07月_研修申込書'!H15 -> 0
N8: 6 | O8: ='07月_研修申込書'!F16 -> 0 | P8: ='07月_研修申込書'!G16 -> 0 | Q8: ='07月_研修申込書'!J16 -> 0 | R8: ='07月_研修申込書'!I16 -> 0 | S8: ='07月_研修申込書'!K16 -> 0 | T8: ='07月_研修申込書'!H16 -> 0
N9: 7
M10: 02j | N10: 1 | O10: 0 | P10: 0 | Q10: 0 | R10: 0 | S10: 0 | T10: 0
N11: 2 | O11: 0 | P11: 0 | Q11: 0 | R11: 0 | S11: 0 | T11: 0
N12: 3 | O12: 0 | P12: 0 | Q12: 0 | R12: 0 | S12: 0 | T12: 0
N13: 4 | O13: 0 | P13: 0 | Q13: 0 | R13: 0 | S13: 0 | T13: 0
N14: 5 | O14: 0 | P14: 0 | Q14: 0 | R14: 0 | S14: 0 | T14: 0
N15: 6 | O15: 0 | P15: 0 | Q15: 0 | R15: 0 | S15: 0 | T15: 0
N16: 7
M17: 03a | N17: 1 | O17: 0 | P17: 0 | Q17: 0 | R17: 0 | S17: 0 | T17: 0
N18: 2 | O18: 0 | P18: 0 | Q18: 0 | R18: 0 | S18: 0 | T18: 0
N19: 3 | O19: 0 | P19: 0 | Q19: 0 | R19: 0 | S19: 0 | T19: 0
N20: 4 | O20: 0 | P20: 0 | Q20: 0 | R20: 0 | S20: 0 | T20: 0
N21: 5 | O21: 0 | P21: 0 | Q21: 0 | R21: 0 | S21: 0 | T21: 0
N22: 6 | O22: 0 | P22: 0 | Q22: 0 | R22: 0 | S22: 0 | T22: 0
N23: 7
